BEGIN:VCALENDAR
VERSION:2.0
PRODID:-//OC Pipes &amp; Drums - ECPv6.15.20//NONSGML v1.0//EN
CALSCALE:GREGORIAN
METHOD:PUBLISH
X-ORIGINAL-URL:https://ocpipesanddrums.com
X-WR-CALDESC:Events for OC Pipes &amp; Drums
REFRESH-INTERVAL;VALUE=DURATION:PT1H
X-Robots-Tag:noindex
X-PUBLISHED-TTL:PT1H
BEGIN:VTIMEZONE
TZID:America/New_York
BEGIN:DAYLIGHT
TZOFFSETFROM:-0500
TZOFFSETTO:-0400
TZNAME:EDT
DTSTART:20230312T070000
END:DAYLIGHT
BEGIN:STANDARD
TZOFFSETFROM:-0400
TZOFFSETTO:-0500
TZNAME:EST
DTSTART:20231105T060000
END:STANDARD
BEGIN:DAYLIGHT
TZOFFSETFROM:-0500
TZOFFSETTO:-0400
TZNAME:EDT
DTSTART:20240310T070000
END:DAYLIGHT
BEGIN:STANDARD
TZOFFSETFROM:-0400
TZOFFSETTO:-0500
TZNAME:EST
DTSTART:20241103T060000
END:STANDARD
BEGIN:DAYLIGHT
TZOFFSETFROM:-0500
TZOFFSETTO:-0400
TZNAME:EDT
DTSTART:20250309T070000
END:DAYLIGHT
BEGIN:STANDARD
TZOFFSETFROM:-0400
TZOFFSETTO:-0500
TZNAME:EST
DTSTART:20251102T060000
END:STANDARD
END:VTIMEZONE
BEGIN:VEVENT
DTSTART;TZID=America/New_York:20240928T100000
DTEND;TZID=America/New_York:20240928T180000
DTSTAMP:20260422T221700
CREATED:20240826T174101Z
LAST-MODIFIED:20240826T174101Z
UID:297-1727517600-1727546400@ocpipesanddrums.com
SUMMARY:Furnace Town Renaissance Faire
DESCRIPTION:Join the OC Pipes & Drums as we step back in time for the Furnace Town Renaissance Faire.
URL:https://ocpipesanddrums.com/event/furnace-town-renaissance-faire/
LOCATION:Furnace Town Renaissance Faire\, 3816 Old Furnace Road\, Snow Hill\, MD\, 21863\, United States
CATEGORIES:Bagpipe & Drum Music,Maryland Event
ATTACH;FMTTYPE=image/png:https://ocpipesanddrums.com/wp-content/uploads/2024/08/RenaissanceFaire.png
END:VEVENT
END:VCALENDAR