BEGIN:VCALENDAR
VERSION:2.0
PRODID:-//OC Pipes &amp; Drums - ECPv6.15.20//NONSGML v1.0//EN
CALSCALE:GREGORIAN
METHOD:PUBLISH
X-ORIGINAL-URL:https://ocpipesanddrums.com
X-WR-CALDESC:Events for OC Pipes &amp; Drums
REFRESH-INTERVAL;VALUE=DURATION:PT1H
X-Robots-Tag:noindex
X-PUBLISHED-TTL:PT1H
BEGIN:VTIMEZONE
TZID:America/New_York
BEGIN:DAYLIGHT
TZOFFSETFROM:-0500
TZOFFSETTO:-0400
TZNAME:EDT
DTSTART:20240310T070000
END:DAYLIGHT
BEGIN:STANDARD
TZOFFSETFROM:-0400
TZOFFSETTO:-0500
TZNAME:EST
DTSTART:20241103T060000
END:STANDARD
BEGIN:DAYLIGHT
TZOFFSETFROM:-0500
TZOFFSETTO:-0400
TZNAME:EDT
DTSTART:20250309T070000
END:DAYLIGHT
BEGIN:STANDARD
TZOFFSETFROM:-0400
TZOFFSETTO:-0500
TZNAME:EST
DTSTART:20251102T060000
END:STANDARD
BEGIN:DAYLIGHT
TZOFFSETFROM:-0500
TZOFFSETTO:-0400
TZNAME:EDT
DTSTART:20260308T070000
END:DAYLIGHT
BEGIN:STANDARD
TZOFFSETFROM:-0400
TZOFFSETTO:-0500
TZNAME:EST
DTSTART:20261101T060000
END:STANDARD
END:VTIMEZONE
BEGIN:VEVENT
DTSTART;TZID=America/New_York:20250315T120000
DTEND;TZID=America/New_York:20250315T130000
DTSTAMP:20260419T105624
CREATED:20250218T194902Z
LAST-MODIFIED:20250218T194902Z
UID:324-1742040000-1742043600@ocpipesanddrums.com
SUMMARY:Ocean City St. Patrick's Day Parade
DESCRIPTION:We lead the OC St. Patrick’s Day Parade!!
URL:https://ocpipesanddrums.com/event/ocean-city-st-patricks-day-parade/
LOCATION:Ocean City\, Ocean City\, MD\, 21842\, United States
ATTACH;FMTTYPE=image/jpeg:https://ocpipesanddrums.com/wp-content/uploads/2024/11/OC-Xmas-Parade.jpg
END:VEVENT
BEGIN:VEVENT
DTSTART;TZID=America/New_York:20250315T130000
DTEND;TZID=America/New_York:20250315T131500
DTSTAMP:20260419T105624
CREATED:20250309T131041Z
LAST-MODIFIED:20250309T131041Z
UID:339-1742043600-1742044500@ocpipesanddrums.com
SUMMARY:Cabanas Beach Bar & Grille
DESCRIPTION:First stop after the St. Paddy’s Day Parade.
URL:https://ocpipesanddrums.com/event/cabanas-beach-bar-grille/
LOCATION:Cabanas Beach Bar\, 109 North Atlantic Ave.\, Ocean City\, MD
CATEGORIES:Bagpipe & Drum Music,St. Patrick's Day
ATTACH;FMTTYPE=image/jpeg:https://ocpipesanddrums.com/wp-content/uploads/2024/02/Cabanas.jpg
END:VEVENT
BEGIN:VEVENT
DTSTART;TZID=America/New_York:20250315T133000
DTEND;TZID=America/New_York:20250315T140000
DTSTAMP:20260419T105624
CREATED:20250218T195204Z
LAST-MODIFIED:20250309T131146Z
UID:326-1742045400-1742047200@ocpipesanddrums.com
SUMMARY:Shenanigan's
DESCRIPTION:After the parade\, we start the festivities at Shenanigan’s!!!
URL:https://ocpipesanddrums.com/event/shenanigans-3/
LOCATION:Shenanigan’s Irish Pub\, 309 Atlantic Ave\, Ocean City\, MD\, 21842\, United States
ATTACH;FMTTYPE=image/jpeg:https://ocpipesanddrums.com/wp-content/uploads/2025/02/Shenanigans.jpg
END:VEVENT
BEGIN:VEVENT
DTSTART;TZID=America/New_York:20250315T140000
DTEND;TZID=America/New_York:20250315T143000
DTSTAMP:20260419T105624
CREATED:20250218T195337Z
LAST-MODIFIED:20250218T195337Z
UID:329-1742047200-1742049000@ocpipesanddrums.com
SUMMARY:Hooter's
DESCRIPTION:We play a few tunes at Hooter’s.
URL:https://ocpipesanddrums.com/event/hooters/
LOCATION:Hooter’s\, 501 Atlantic Ave\, Ocean City\, MD
ATTACH;FMTTYPE=image/jpeg:https://ocpipesanddrums.com/wp-content/uploads/2024/02/Hooters.jpg
END:VEVENT
BEGIN:VEVENT
DTSTART;TZID=America/New_York:20250315T150000
DTEND;TZID=America/New_York:20250315T153000
DTSTAMP:20260419T105624
CREATED:20250218T195558Z
LAST-MODIFIED:20250218T195558Z
UID:331-1742050800-1742052600@ocpipesanddrums.com
SUMMARY:Seacret's
DESCRIPTION:We fight the huge crowd at Seacret’s to get to the stage to perform.
URL:https://ocpipesanddrums.com/event/seacrets-3/
LOCATION:Seacrets\, 117 49th Street\, Ocean City\, MD
ATTACH;FMTTYPE=image/jpeg:https://ocpipesanddrums.com/wp-content/uploads/2024/02/Seacrets-1.jpg
END:VEVENT
BEGIN:VEVENT
DTSTART;TZID=America/New_York:20250315T153000
DTEND;TZID=America/New_York:20250315T160000
DTSTAMP:20260419T105624
CREATED:20250218T200557Z
LAST-MODIFIED:20250218T201230Z
UID:333-1742052600-1742054400@ocpipesanddrums.com
SUMMARY:Residence Inn
DESCRIPTION:We play in the 2nd floor lounge for the Residence Inn guests.
URL:https://ocpipesanddrums.com/event/residence-inn/
LOCATION:Residence Inn by Marriott\, 300 Seabay Lane\, Ocean City\, MD
ATTACH;FMTTYPE=image/jpeg:https://ocpipesanddrums.com/wp-content/uploads/2024/02/Residence-Inn.jpg
END:VEVENT
BEGIN:VEVENT
DTSTART;TZID=America/New_York:20250315T160000
DTEND;TZID=America/New_York:20250315T163000
DTSTAMP:20260419T105624
CREATED:20250309T144458Z
LAST-MODIFIED:20250309T144458Z
UID:348-1742054400-1742056200@ocpipesanddrums.com
SUMMARY:The Green Turtle
DESCRIPTION:Satisfying our fans at The Green Turtle!
URL:https://ocpipesanddrums.com/event/the-green-turtle/
LOCATION:Original Green Turtle\, 11601 Coastal Hwy\, Ocean City\, MD\, 21842\, United States
CATEGORIES:Bagpipe & Drum Music,Ocean City,St. Patrick's Day
ATTACH;FMTTYPE=image/jpeg:https://ocpipesanddrums.com/wp-content/uploads/2024/03/Green-Turtle-OC.jpg
END:VEVENT
BEGIN:VEVENT
DTSTART;TZID=America/New_York:20250315T163000
DTEND;TZID=America/New_York:20250315T170000
DTSTAMP:20260419T105624
CREATED:20250218T200756Z
LAST-MODIFIED:20250218T200756Z
UID:335-1742056200-1742058000@ocpipesanddrums.com
SUMMARY:Ocean City Elks Club
DESCRIPTION:We play our last show of the day for the OC Elks Club.
URL:https://ocpipesanddrums.com/event/ocean-city-elks-club/
LOCATION:OC Elks Lodge\, 13708 Sinepuxent Ave.\, Ocean City\, MD
ATTACH;FMTTYPE=image/jpeg:https://ocpipesanddrums.com/wp-content/uploads/2024/02/OC-Elks-Lodge.jpg
END:VEVENT
END:VCALENDAR