BEGIN:VCALENDAR
VERSION:2.0
PRODID:-//OC Pipes &amp; Drums - ECPv6.15.20//NONSGML v1.0//EN
CALSCALE:GREGORIAN
METHOD:PUBLISH
X-ORIGINAL-URL:https://ocpipesanddrums.com
X-WR-CALDESC:Events for OC Pipes &amp; Drums
REFRESH-INTERVAL;VALUE=DURATION:PT1H
X-Robots-Tag:noindex
X-PUBLISHED-TTL:PT1H
BEGIN:VTIMEZONE
TZID:America/New_York
BEGIN:DAYLIGHT
TZOFFSETFROM:-0500
TZOFFSETTO:-0400
TZNAME:EDT
DTSTART:20250309T070000
END:DAYLIGHT
BEGIN:STANDARD
TZOFFSETFROM:-0400
TZOFFSETTO:-0500
TZNAME:EST
DTSTART:20251102T060000
END:STANDARD
BEGIN:DAYLIGHT
TZOFFSETFROM:-0500
TZOFFSETTO:-0400
TZNAME:EDT
DTSTART:20260308T070000
END:DAYLIGHT
BEGIN:STANDARD
TZOFFSETFROM:-0400
TZOFFSETTO:-0500
TZNAME:EST
DTSTART:20261101T060000
END:STANDARD
BEGIN:DAYLIGHT
TZOFFSETFROM:-0500
TZOFFSETTO:-0400
TZNAME:EDT
DTSTART:20270314T070000
END:DAYLIGHT
BEGIN:STANDARD
TZOFFSETFROM:-0400
TZOFFSETTO:-0500
TZNAME:EST
DTSTART:20271107T060000
END:STANDARD
END:VTIMEZONE
BEGIN:VEVENT
DTSTART;TZID=America/New_York:20260314T150000
DTEND;TZID=America/New_York:20260314T153000
DTSTAMP:20260422T181029
CREATED:20260227T164039Z
LAST-MODIFIED:20260227T164123Z
UID:382-1773500400-1773502200@ocpipesanddrums.com
SUMMARY:Cabanas Beach Bar & Grille
DESCRIPTION:Our 3rd stop after the parade. \nTimes are an estimate 
URL:https://ocpipesanddrums.com/event/cabanas-beach-bar-grille-2/
LOCATION:Cabanas Beach Bar\, 109 North Atlantic Ave.\, Ocean City\, MD
CATEGORIES:Bagpipe & Drum Music,Ocean City,St. Patrick's Day
ATTACH;FMTTYPE=image/jpeg:https://ocpipesanddrums.com/wp-content/uploads/2024/02/Cabanas.jpg
END:VEVENT
BEGIN:VEVENT
DTSTART;TZID=America/New_York:20260314T160000
DTEND;TZID=America/New_York:20260314T163000
DTSTAMP:20260422T181029
CREATED:20260227T164722Z
LAST-MODIFIED:20260227T164929Z
UID:388-1773504000-1773505800@ocpipesanddrums.com
SUMMARY:Bull On the Beach 94th St.
DESCRIPTION:Playing Bull on the beach\, 94th street for our last stop. \nTimes are an estimate 
URL:https://ocpipesanddrums.com/event/bull-on-the-beach-94th-st/
LOCATION:Bull On the Beach 94Th St\, 17 94th St\, Ocean City\, 21842\, United States
CATEGORIES:Bagpipe & Drum Music,Ocean City,St. Patrick's Day
ATTACH;FMTTYPE=image/jpeg:https://ocpipesanddrums.com/wp-content/uploads/2026/02/bull-on-the-beach-94th.jpg
END:VEVENT
BEGIN:VEVENT
DTSTART;TZID=America/New_York:20260317T153000
DTEND;TZID=America/New_York:20260317T163000
DTSTAMP:20260422T181029
CREATED:20260227T170013Z
LAST-MODIFIED:20260227T170124Z
UID:395-1773761400-1773765000@ocpipesanddrums.com
SUMMARY:Shenanigans Pub
DESCRIPTION:Celebrate  St Patricks’s Day by the ocean with live Celtic tunes\, drums\, and pints raised high! \nTimes are an estimate 
URL:https://ocpipesanddrums.com/event/shenanigans-pub-2/
LOCATION:Shenanigan’s Irish Pub\, 309 Atlantic Ave\, Ocean City\, MD\, 21842\, United States
CATEGORIES:Bagpipe & Drum Music,Ocean City,St. Patrick's Day
ATTACH;FMTTYPE=image/jpeg:https://ocpipesanddrums.com/wp-content/uploads/2025/03/IMG_8960-scaled.jpg
END:VEVENT
END:VCALENDAR