BEGIN:VCALENDAR
VERSION:2.0
PRODID:-//OC Pipes &amp; Drums - ECPv6.15.20//NONSGML v1.0//EN
CALSCALE:GREGORIAN
METHOD:PUBLISH
X-WR-CALNAME:OC Pipes &amp; Drums
X-ORIGINAL-URL:https://ocpipesanddrums.com
X-WR-CALDESC:Events for OC Pipes &amp; Drums
REFRESH-INTERVAL;VALUE=DURATION:PT1H
X-Robots-Tag:noindex
X-PUBLISHED-TTL:PT1H
BEGIN:VTIMEZONE
TZID:America/New_York
BEGIN:DAYLIGHT
TZOFFSETFROM:-0500
TZOFFSETTO:-0400
TZNAME:EDT
DTSTART:20220313T070000
END:DAYLIGHT
BEGIN:STANDARD
TZOFFSETFROM:-0400
TZOFFSETTO:-0500
TZNAME:EST
DTSTART:20221106T060000
END:STANDARD
BEGIN:DAYLIGHT
TZOFFSETFROM:-0500
TZOFFSETTO:-0400
TZNAME:EDT
DTSTART:20230312T070000
END:DAYLIGHT
BEGIN:STANDARD
TZOFFSETFROM:-0400
TZOFFSETTO:-0500
TZNAME:EST
DTSTART:20231105T060000
END:STANDARD
BEGIN:DAYLIGHT
TZOFFSETFROM:-0500
TZOFFSETTO:-0400
TZNAME:EDT
DTSTART:20240310T070000
END:DAYLIGHT
BEGIN:STANDARD
TZOFFSETFROM:-0400
TZOFFSETTO:-0500
TZNAME:EST
DTSTART:20241103T060000
END:STANDARD
END:VTIMEZONE
BEGIN:VEVENT
DTSTART;TZID=America/New_York:20230917T143000
DTEND;TZID=America/New_York:20230917T153000
DTSTAMP:20260420T041005
CREATED:20230902T220603Z
LAST-MODIFIED:20230902T220603Z
UID:124-1694961000-1694964600@ocpipesanddrums.com
SUMMARY:Six Months until St. Patrick's Day
DESCRIPTION:Celebrate — as it’s only 6 months until St. Patricks’ Day!!
URL:https://ocpipesanddrums.com/event/six-months-until-st-patricks-day/
LOCATION:Shenanigan’s Irish Pub\, 309 Atlantic Ave\, Ocean City\, MD\, 21842\, United States
CATEGORIES:Bagpipe & Drum Music,Maryland Event,St. Patrick's Day
ATTACH;FMTTYPE=image/jpeg:https://ocpipesanddrums.com/wp-content/uploads/2023/08/353852922_1953424521687121_8175547287134638960_n.jpg
END:VEVENT
BEGIN:VEVENT
DTSTART;TZID=America/New_York:20230911T080000
DTEND;TZID=America/New_York:20230911T090000
DTSTAMP:20260420T041005
CREATED:20230902T212903Z
LAST-MODIFIED:20230902T212903Z
UID:122-1694419200-1694422800@ocpipesanddrums.com
SUMMARY:Honoring the Heroes of September 11th
DESCRIPTION:The band is playing at a ceremony sponsored by the ‘Red Knights’ motorcycle club to honor the heroes of “9/11”.
URL:https://ocpipesanddrums.com/event/honoring-the-heroes-of-september-11th/
LOCATION:Firefighter Memorial\, Division Street\, Ocean City\, MD\, 21842\, United States
CATEGORIES:Bagpipe & Drum Music,September 11th
ATTACH;FMTTYPE=image/jpeg:https://ocpipesanddrums.com/wp-content/uploads/2023/08/OC-Pipes-and-Drums.jpg
END:VEVENT
BEGIN:VEVENT
DTSTART;TZID=America/New_York:20230908T160000
DTEND;TZID=America/New_York:20230908T170000
DTSTAMP:20260420T041005
CREATED:20230902T212453Z
LAST-MODIFIED:20230902T212453Z
UID:118-1694188800-1694192400@ocpipesanddrums.com
SUMMARY:Honor our September 11th Heroes in the 'Light up the Sky' event
DESCRIPTION:We are playing at a ceremony sponsored by the Ocean City Fire Department to ‘Light up the Sky’ in honor of the “9/11” heroes!  The ceremony will take place at the Firefighter Memorial located on the Boardwalk at Division Street. We play at 8:00 pm.
URL:https://ocpipesanddrums.com/event/honor-our-september-11th-heroes-in-the-light-up-the-sky-event/
LOCATION:Firefighter Memorial\, Division Street\, Ocean City\, MD\, 21842\, United States
CATEGORIES:Bagpipe & Drum Music,September 11th
ATTACH;FMTTYPE=image/jpeg:https://ocpipesanddrums.com/wp-content/uploads/2023/08/OC-Pipes-and-Drums.jpg
END:VEVENT
END:VCALENDAR