BEGIN:VCALENDAR
VERSION:2.0
PRODID:-//OC Pipes &amp; Drums - ECPv6.15.20//NONSGML v1.0//EN
CALSCALE:GREGORIAN
METHOD:PUBLISH
X-ORIGINAL-URL:https://ocpipesanddrums.com
X-WR-CALDESC:Events for OC Pipes &amp; Drums
REFRESH-INTERVAL;VALUE=DURATION:PT1H
X-Robots-Tag:noindex
X-PUBLISHED-TTL:PT1H
BEGIN:VTIMEZONE
TZID:America/New_York
BEGIN:DAYLIGHT
TZOFFSETFROM:-0500
TZOFFSETTO:-0400
TZNAME:EDT
DTSTART:20230312T070000
END:DAYLIGHT
BEGIN:STANDARD
TZOFFSETFROM:-0400
TZOFFSETTO:-0500
TZNAME:EST
DTSTART:20231105T060000
END:STANDARD
BEGIN:DAYLIGHT
TZOFFSETFROM:-0500
TZOFFSETTO:-0400
TZNAME:EDT
DTSTART:20240310T070000
END:DAYLIGHT
BEGIN:STANDARD
TZOFFSETFROM:-0400
TZOFFSETTO:-0500
TZNAME:EST
DTSTART:20241103T060000
END:STANDARD
BEGIN:DAYLIGHT
TZOFFSETFROM:-0500
TZOFFSETTO:-0400
TZNAME:EDT
DTSTART:20250309T070000
END:DAYLIGHT
BEGIN:STANDARD
TZOFFSETFROM:-0400
TZOFFSETTO:-0500
TZNAME:EST
DTSTART:20251102T060000
END:STANDARD
END:VTIMEZONE
BEGIN:VEVENT
DTSTART;TZID=America/New_York:20240906T200000
DTEND;TZID=America/New_York:20240906T210000
DTSTAMP:20260422T195111
CREATED:20240826T173944Z
LAST-MODIFIED:20240826T173944Z
UID:286-1725652800-1725656400@ocpipesanddrums.com
SUMMARY:Ocean City 9/11 Remembrance Beams of Light
DESCRIPTION:The OC Pipes & Drums participate in the Ocean City 9/11 Remembrance Beams of Light memorial service.
URL:https://ocpipesanddrums.com/event/ocean-city-9-11-remembrance-beams-of-light/
LOCATION:Firefighter Memorial\, Division Street\, Ocean City\, MD\, 21842\, United States
CATEGORIES:Bagpipe & Drum Music,Ocean City,September 11th
ATTACH;FMTTYPE=image/jpeg:https://ocpipesanddrums.com/wp-content/uploads/2024/08/Beams-of-Light.jpeg
END:VEVENT
BEGIN:VEVENT
DTSTART;TZID=America/New_York:20240911T120000
DTEND;TZID=America/New_York:20240911T130000
DTSTAMP:20260422T195111
CREATED:20240826T175047Z
LAST-MODIFIED:20240826T175047Z
UID:288-1726056000-1726059600@ocpipesanddrums.com
SUMMARY:The Red Knights Motorcycle Club “Parade of Brothers”
DESCRIPTION:The OC Pipes & Drums participate in the ceremonies as the Red Knights Motorcycle Club host its “Parade of Brothers” at the Ocean City Firefighters Memorial in remembrance of 9/11.
URL:https://ocpipesanddrums.com/event/the-red-knights-motorcycle-club-parade-of-brothers/
LOCATION:MD
ATTACH;FMTTYPE=image/jpeg:https://ocpipesanddrums.com/wp-content/uploads/2024/08/Red-Knights.jpg
END:VEVENT
BEGIN:VEVENT
DTSTART;TZID=America/New_York:20240920T100000
DTEND;TZID=America/New_York:20240920T110000
DTSTAMP:20260422T195111
CREATED:20240826T174023Z
LAST-MODIFIED:20240826T174023Z
UID:293-1726826400-1726830000@ocpipesanddrums.com
SUMMARY:Wor-Wic CC President's Inaugaration
DESCRIPTION:The OC Pipes & Drums play for the inaugaration ceremony for the incoming president of Wor-Wic CC.
URL:https://ocpipesanddrums.com/event/wor-wic-cc-presidents-inaugaration/
LOCATION:MD
CATEGORIES:Bagpipe & Drum Music,Maryland Event
ATTACH;FMTTYPE=image/jpeg:https://ocpipesanddrums.com/wp-content/uploads/2024/04/Wor-Wic-CC-Logo.jpg
END:VEVENT
BEGIN:VEVENT
DTSTART;TZID=America/New_York:20240928T100000
DTEND;TZID=America/New_York:20240928T180000
DTSTAMP:20260422T195111
CREATED:20240826T174101Z
LAST-MODIFIED:20240826T174101Z
UID:297-1727517600-1727546400@ocpipesanddrums.com
SUMMARY:Furnace Town Renaissance Faire
DESCRIPTION:Join the OC Pipes & Drums as we step back in time for the Furnace Town Renaissance Faire.
URL:https://ocpipesanddrums.com/event/furnace-town-renaissance-faire/
LOCATION:Furnace Town Renaissance Faire\, 3816 Old Furnace Road\, Snow Hill\, MD\, 21863\, United States
CATEGORIES:Bagpipe & Drum Music,Maryland Event
ATTACH;FMTTYPE=image/png:https://ocpipesanddrums.com/wp-content/uploads/2024/08/RenaissanceFaire.png
END:VEVENT
END:VCALENDAR